BEGIN:VCALENDAR
VERSION:2.0
PRODID:-//Piedmont Culinary Guild - ECPv6.13.2.1//NONSGML v1.0//EN
CALSCALE:GREGORIAN
METHOD:PUBLISH
X-WR-CALNAME:Piedmont Culinary Guild
X-ORIGINAL-URL:https://piedmontculinaryguild.com
X-WR-CALDESC:Events for Piedmont Culinary Guild
REFRESH-INTERVAL;VALUE=DURATION:PT1H
X-Robots-Tag:noindex
X-PUBLISHED-TTL:PT1H
BEGIN:VTIMEZONE
TZID:America/New_York
BEGIN:DAYLIGHT
TZOFFSETFROM:-0500
TZOFFSETTO:-0400
TZNAME:EDT
DTSTART:20180311T070000
END:DAYLIGHT
BEGIN:STANDARD
TZOFFSETFROM:-0400
TZOFFSETTO:-0500
TZNAME:EST
DTSTART:20181104T060000
END:STANDARD
BEGIN:DAYLIGHT
TZOFFSETFROM:-0500
TZOFFSETTO:-0400
TZNAME:EDT
DTSTART:20190310T070000
END:DAYLIGHT
BEGIN:STANDARD
TZOFFSETFROM:-0400
TZOFFSETTO:-0500
TZNAME:EST
DTSTART:20191103T060000
END:STANDARD
BEGIN:DAYLIGHT
TZOFFSETFROM:-0500
TZOFFSETTO:-0400
TZNAME:EDT
DTSTART:20200308T070000
END:DAYLIGHT
BEGIN:STANDARD
TZOFFSETFROM:-0400
TZOFFSETTO:-0500
TZNAME:EST
DTSTART:20201101T060000
END:STANDARD
BEGIN:DAYLIGHT
TZOFFSETFROM:-0500
TZOFFSETTO:-0400
TZNAME:EDT
DTSTART:20210314T070000
END:DAYLIGHT
BEGIN:STANDARD
TZOFFSETFROM:-0400
TZOFFSETTO:-0500
TZNAME:EST
DTSTART:20211107T060000
END:STANDARD
BEGIN:DAYLIGHT
TZOFFSETFROM:-0500
TZOFFSETTO:-0400
TZNAME:EDT
DTSTART:20220313T070000
END:DAYLIGHT
BEGIN:STANDARD
TZOFFSETFROM:-0400
TZOFFSETTO:-0500
TZNAME:EST
DTSTART:20221106T060000
END:STANDARD
BEGIN:DAYLIGHT
TZOFFSETFROM:-0500
TZOFFSETTO:-0400
TZNAME:EDT
DTSTART:20230312T070000
END:DAYLIGHT
BEGIN:STANDARD
TZOFFSETFROM:-0400
TZOFFSETTO:-0500
TZNAME:EST
DTSTART:20231105T060000
END:STANDARD
BEGIN:DAYLIGHT
TZOFFSETFROM:-0500
TZOFFSETTO:-0400
TZNAME:EDT
DTSTART:20240310T070000
END:DAYLIGHT
BEGIN:STANDARD
TZOFFSETFROM:-0400
TZOFFSETTO:-0500
TZNAME:EST
DTSTART:20241103T060000
END:STANDARD
BEGIN:DAYLIGHT
TZOFFSETFROM:-0500
TZOFFSETTO:-0400
TZNAME:EDT
DTSTART:20250309T070000
END:DAYLIGHT
BEGIN:STANDARD
TZOFFSETFROM:-0400
TZOFFSETTO:-0500
TZNAME:EST
DTSTART:20251102T060000
END:STANDARD
END:VTIMEZONE
BEGIN:VEVENT
DTSTART;VALUE=DATE:20251225
DTEND;VALUE=DATE:20251226
DTSTAMP:20260423T000856
CREATED:20191025T145254Z
LAST-MODIFIED:20191025T145254Z
UID:18066-1766620800-1766707199@piedmontculinaryguild.com
SUMMARY:Christmas
DESCRIPTION:
URL:https://piedmontculinaryguild.com/pcgevent/christmas-2-2025-12-25/
CATEGORIES:Holiday
END:VEVENT
BEGIN:VEVENT
DTSTART;VALUE=DATE:20250526
DTEND;VALUE=DATE:20250527
DTSTAMP:20260423T000856
CREATED:20200410T160916Z
LAST-MODIFIED:20200410T160916Z
UID:17887-1748217600-1748303999@piedmontculinaryguild.com
SUMMARY:Memorial Day
DESCRIPTION:
URL:https://piedmontculinaryguild.com/pcgevent/memorial-day-2-2025-05-26/
CATEGORIES:Holiday
END:VEVENT
BEGIN:VEVENT
DTSTART;VALUE=DATE:20241225
DTEND;VALUE=DATE:20241226
DTSTAMP:20260423T000856
CREATED:20191025T145254Z
LAST-MODIFIED:20191025T145254Z
UID:17777-1735084800-1735171199@piedmontculinaryguild.com
SUMMARY:Christmas
DESCRIPTION:
URL:https://piedmontculinaryguild.com/pcgevent/christmas-2-2024-12-25/
CATEGORIES:Holiday
END:VEVENT
BEGIN:VEVENT
DTSTART;VALUE=DATE:20240527
DTEND;VALUE=DATE:20240528
DTSTAMP:20260423T000856
CREATED:20200410T160916Z
LAST-MODIFIED:20200410T160916Z
UID:17395-1716768000-1716854399@piedmontculinaryguild.com
SUMMARY:Memorial Day
DESCRIPTION:
URL:https://piedmontculinaryguild.com/pcgevent/memorial-day-2-2024-05-27/
CATEGORIES:Holiday
END:VEVENT
BEGIN:VEVENT
DTSTART;VALUE=DATE:20200525
DTEND;VALUE=DATE:20200526
DTSTAMP:20260423T000856
CREATED:20200410T160916Z
LAST-MODIFIED:20200410T161040Z
UID:16085-1590364800-1590451199@piedmontculinaryguild.com
SUMMARY:Memorial Day
DESCRIPTION:
URL:https://piedmontculinaryguild.com/pcgevent/memorial-day-2/
CATEGORIES:Holiday
END:VEVENT
BEGIN:VEVENT
DTSTART;VALUE=DATE:20200412
DTEND;VALUE=DATE:20200413
DTSTAMP:20260423T000856
CREATED:20200410T160538Z
LAST-MODIFIED:20200410T160538Z
UID:16076-1586649600-1586735999@piedmontculinaryguild.com
SUMMARY:Easter
DESCRIPTION:
URL:https://piedmontculinaryguild.com/pcgevent/easter/
CATEGORIES:Holiday
END:VEVENT
BEGIN:VEVENT
DTSTART;VALUE=DATE:20191225
DTEND;VALUE=DATE:20191226
DTSTAMP:20260423T000856
CREATED:20191025T145254Z
LAST-MODIFIED:20191025T145410Z
UID:14978-1577232000-1577318399@piedmontculinaryguild.com
SUMMARY:Christmas
DESCRIPTION:
URL:https://piedmontculinaryguild.com/pcgevent/christmas-2/
CATEGORIES:Holiday
END:VEVENT
BEGIN:VEVENT
DTSTART;VALUE=DATE:20191128
DTEND;VALUE=DATE:20191129
DTSTAMP:20260423T000856
CREATED:20191002T144201Z
LAST-MODIFIED:20191002T144201Z
UID:14753-1574899200-1574985599@piedmontculinaryguild.com
SUMMARY:Thanksgiving
DESCRIPTION:
URL:https://piedmontculinaryguild.com/pcgevent/thanksgiving-2/
CATEGORIES:Holiday
END:VEVENT
BEGIN:VEVENT
DTSTART;VALUE=DATE:20191031
DTEND;VALUE=DATE:20191101
DTSTAMP:20260423T000856
CREATED:20191002T142309Z
LAST-MODIFIED:20191002T142309Z
UID:14747-1572480000-1572566399@piedmontculinaryguild.com
SUMMARY:Halloween
DESCRIPTION:
URL:https://piedmontculinaryguild.com/pcgevent/halloween/
CATEGORIES:Holiday
END:VEVENT
BEGIN:VEVENT
DTSTART;VALUE=DATE:20190527
DTEND;VALUE=DATE:20190528
DTSTAMP:20260423T000856
CREATED:20190430T163204Z
LAST-MODIFIED:20190430T163204Z
UID:13369-1558915200-1559001599@piedmontculinaryguild.com
SUMMARY:Memorial Day
DESCRIPTION:
URL:https://piedmontculinaryguild.com/pcgevent/memorial-day/
CATEGORIES:Holiday
END:VEVENT
BEGIN:VEVENT
DTSTART;VALUE=DATE:20190101
DTEND;VALUE=DATE:20190102
DTSTAMP:20260423T000856
CREATED:20181129T220422Z
LAST-MODIFIED:20181129T220422Z
UID:12048-1546300800-1546387199@piedmontculinaryguild.com
SUMMARY:New Year's Day
DESCRIPTION:Happy New Year!
URL:https://piedmontculinaryguild.com/pcgevent/new-years-day/
CATEGORIES:Holiday
ATTACH;FMTTYPE=image/jpeg:https://piedmontculinaryguild.com/wp-content/uploads/2018/11/new-year-og.jpg
END:VEVENT
BEGIN:VEVENT
DTSTART;VALUE=DATE:20181225
DTEND;VALUE=DATE:20181226
DTSTAMP:20260423T000856
CREATED:20181129T215013Z
LAST-MODIFIED:20181129T215013Z
UID:12044-1545696000-1545782399@piedmontculinaryguild.com
SUMMARY:Christmas
DESCRIPTION:Merry Christmas!
URL:https://piedmontculinaryguild.com/pcgevent/christmas/
CATEGORIES:Holiday
ATTACH;FMTTYPE=image/jpeg:https://piedmontculinaryguild.com/wp-content/uploads/2018/11/christmas-og.jpg
END:VEVENT
BEGIN:VEVENT
DTSTART;VALUE=DATE:20181122
DTEND;VALUE=DATE:20181123
DTSTAMP:20260423T000856
CREATED:20181129T213901Z
LAST-MODIFIED:20181129T214037Z
UID:12041-1542844800-1542931199@piedmontculinaryguild.com
SUMMARY:Thanksgiving
DESCRIPTION:Happy Thanksgiving!
URL:https://piedmontculinaryguild.com/pcgevent/thanksgiving/
CATEGORIES:Holiday
ATTACH;FMTTYPE=image/jpeg:https://piedmontculinaryguild.com/wp-content/uploads/2018/11/thanksgiving.jpg
END:VEVENT
END:VCALENDAR