BEGIN:VCALENDAR
VERSION:2.0
PRODID:-//Piedmont Culinary Guild - ECPv6.13.2.1//NONSGML v1.0//EN
CALSCALE:GREGORIAN
METHOD:PUBLISH
X-ORIGINAL-URL:https://piedmontculinaryguild.com
X-WR-CALDESC:Events for Piedmont Culinary Guild
REFRESH-INTERVAL;VALUE=DURATION:PT1H
X-Robots-Tag:noindex
X-PUBLISHED-TTL:PT1H
BEGIN:VTIMEZONE
TZID:America/New_York
BEGIN:DAYLIGHT
TZOFFSETFROM:-0500
TZOFFSETTO:-0400
TZNAME:EDT
DTSTART:20190310T070000
END:DAYLIGHT
BEGIN:STANDARD
TZOFFSETFROM:-0400
TZOFFSETTO:-0500
TZNAME:EST
DTSTART:20191103T060000
END:STANDARD
END:VTIMEZONE
BEGIN:VEVENT
DTSTART;TZID=America/New_York:20190520T140000
DTEND;TZID=America/New_York:20190520T180000
DTSTAMP:20260423T000933
CREATED:20190515T160959Z
LAST-MODIFIED:20190515T161556Z
UID:13457-1558360800-1558375200@piedmontculinaryguild.com
SUMMARY:Extravaganza Depot - Inland Seafood Charlotte Experience
DESCRIPTION:Inland Seafood\, a certified PCG Business Member\, is hosting a showcase of Inland Seafood’s seafood\, meats\, and artisan specialty foods – paired with wine and craft beer. A unique opportunity for chefs\, restauranteurs\, caterers\, and all other food service professionals to engage with producers\, farmers\, manufacturers\, and purveyors. \nIndustry Only\nFree.
URL:https://piedmontculinaryguild.com/pcgevent/extravaganza-depot-inland-seafood-charlotte-experience/
LOCATION:Extravaganza Depot\, 1610 North Tryon Street\, Charlotte\, NC\, 28206\, United States
CATEGORIES:Industry Only
ATTACH;FMTTYPE=image/jpeg:https://piedmontculinaryguild.com/wp-content/uploads/2019/05/inland-extravaganza.jpg
END:VEVENT
END:VCALENDAR